BEGIN:VCALENDAR
VERSION:2.0
PRODID:-//Théâtre Gilles-Vigneault//Simon Leblanc//EN
CALSCALE:GREGORIAN
METHOD:PUBLISH
BEGIN:VEVENT
SUMMARY:Simon Leblanc
UID:E-23985-20260618T200000
DTSTART:20260618T200000
DTSTAMP:20260420T153152
URL:https://theatregillesvigneault.com/calendrier/simon-leblanc-juin-2026/
END:VEVENT
END:VCALENDAR