BEGIN:VCALENDAR
VERSION:2.0
PRODID:-//Théâtre Gilles-Vigneault//Soleil Launière//EN
CALSCALE:GREGORIAN
METHOD:PUBLISH
BEGIN:VEVENT
SUMMARY:Soleil Launière
UID:E-24395-20260521T200000
DTSTART:20260521T200000
DTSTAMP:20260126T164157
LOCATION:Théâtre Gilles-Vigneault, 118, rue de la Gare, Saint-Jérôme, J7Z 0J1
GEO:45.776227;-74.001033
URL:https://theatregillesvigneault.com/calendrier/soleil-launiere-novembre-2025/
END:VEVENT
END:VCALENDAR