BEGIN:VCALENDAR
VERSION:2.0
PRODID:-//Théâtre Gilles-Vigneault//Nathalie Simard//EN
CALSCALE:GREGORIAN
METHOD:PUBLISH
BEGIN:VEVENT
SUMMARY:Nathalie Simard
UID:E-23736-20251214T150000
DTSTART:20251214T150000
DTSTAMP:20251119T162309
URL:https://theatregillesvigneault.com/calendrier/nathalie-simard-decembre-2025/
END:VEVENT
END:VCALENDAR