BEGIN:VCALENDAR
VERSION:2.0
PRODID:-//Théâtre Gilles-Vigneault//Ensemble Mistral//EN
CALSCALE:GREGORIAN
METHOD:PUBLISH
BEGIN:VEVENT
SUMMARY:Ensemble Mistral
UID:E-22832-20251016T200000
DTSTART:20251016T200000
DTSTAMP:20251024T103527
LOCATION:Théâtre Gilles-Vigneault, 118, rue de la Gare, Saint-Jérôme, J7Z 0J1
GEO:45.776227;-74.001033
URL:https://theatregillesvigneault.com/?post_type=calendrier&p=22832
END:VEVENT
END:VCALENDAR